BEGIN:VCALENDAR
VERSION:2.0
PRODID:-//Library Market//iCal Export//EN
BEGIN:VEVENT
SUMMARY:Southbury Library Board Technology Subcommittee
UID:51050
DTSTAMP:20260423T193400Z
DTSTART:20260421T213000Z
DTEND:20260421T223000Z
LOCATION:100 Poverty Road, Southbury, CT 06488, United States
ROOM: Kingsley Room B
DESCRIPTION:This is the monthly meeting of the Southbury Library&#039;s Te
 chnology Committee. Meetings are open to the public.
URL:https://www.southburylibrary.org/event/southbury-library-board-technol
 ogy-subcommittee-51050
END:VEVENT
END:VCALENDAR
