BEGIN:VCALENDAR
VERSION:2.0
PRODID:-//Library Market//iCal Export//EN
BEGIN:VEVENT
SUMMARY:IN PERSON- Camp Tidy Up: an Indoor Summer Decluttering Adventure
UID:54202
DTSTAMP:20260424T201400Z
DTSTART:20260609T180000Z
DTEND:20260609T193000Z
LOCATION:100 Poverty Road, Southbury, CT 06488, United States
ROOM: Kingsley Room A/B
DESCRIPTION:This program will be delivered via Zoom and will be streamed t
 o our Kingsley Room. If you want to watch the program from home, registerÂ
  here.Log into Camp Tidy Up, where the sâ€™mores are toasty and clutter do
 esnâ€™t stand a chance. Join professional organizer and author Jamie Novak
  as your camp counselor for a fun, fast decluttering adventure. Learn what
  to clear out this summer and join short camp activities to tidy-up live. 
 No bug spray needed, marshmallows optional.Led by professional organizer J
 amie Novak, who is the bestselling author of Keep This, Toss That: The Pra
 ctical Guide To Tidying Up and host of &quot;The 10 Minute Podcast.&quot;L
 ike all Southbury Public Library programs, this event is free to attend an
 d open to anyone regardless of town of residency. Registration is required
 . This program is sponsored by Charles H. and Ella Emery Rutledge Fund. Â 
 For more information about this program, please email Rebecca at rrandall@
 biblio.org or call the reference desk at 203-262-0626 ext 2.
URL:https://www.southburylibrary.org/event/person-camp-tidy
END:VEVENT
END:VCALENDAR
