BEGIN:VCALENDAR
VERSION:2.0
PRODID:-//Library Market//iCal Export//EN
BEGIN:VEVENT
SUMMARY:The Elderly Brothers Concert
UID:54815
DTSTAMP:20260425T152700Z
DTSTART:20260530T170000Z
DTEND:20260530T183000Z
LOCATION:100 Poverty Road, Southbury, CT 06488, United States
ROOM: Kingsley Room A/B
DESCRIPTION:Long-time popular solo artists, T-Bone Stankus and Brian Gilli
 e have teamed up as the Elderly Brothers, serving up mint-condition “old
 ies” rock ‘n’ roll with pitch-perfect harmonies and soulful improvis
 ations as fresh as the originals.  No sleepwalk down memory lane with the
 se guys.  Their radiant renditions and audience interaction are unsurpass
 ed.  Enjoy the solid groove and the upbeat, move-it-or-lose-it, ‘50s an
 d ‘60s bandstand repertoire that has made each of them such talented, in
 novative and celebrated performers.  sh BOOM!Long-time music teacher, si
 nger, dance choreographer, songwriter and multi-instrumentalist, Brian Gil
 lie has been offering music, song and dance programs and concerts for ages
  2 through 92 since 1983.Tom &quot;T-Bone&quot; Stankus is an American mus
 ician based in Bristol, Connecticut. He is known for performing comedic st
 ylings with his acoustic guitar.  He is most noted for his song &quot;Exi
 stential Blues,&quot; which heavily references the 1939 Wizard of Oz movie
  and was featured on the Dr. Demento: 20th Anniversary CollectionLike all 
 Southbury Public Library programs, this event is free to attend and open t
 o anyone regardless of town of residency. Registration is required. This p
 rogram is sponsored by the Friends of the Southbury Public Library.  For 
 more information about this program, please email Rebecca at rrandall@bibl
 io.org or call the reference desk at 203-262-0626 ext 2.
URL:https://www.southburylibrary.org/event/elderly-brothers-concert-54815
END:VEVENT
END:VCALENDAR
