BEGIN:VCALENDAR
VERSION:2.0
PRODID:-//Library Market//iCal Export//EN
BEGIN:VEVENT
SUMMARY:ZOOM- Camp Tidy Up: an Indoor Summer Decluttering Adventure
UID:54895
DTSTAMP:20260424T215400Z
DTSTART:20260609T180000Z
DTEND:20260609T193000Z
LOCATION:
DESCRIPTION:This program will also be streamed to our Kingsley Room. Regis
 ter here if you want to watch it at the library.Log into Camp Tidy Up, w
 here the s’mores are toasty and clutter doesn’t stand a chance. Join p
 rofessional organizer and author Jamie Novak as your camp counselor for a 
 fun, fast decluttering adventure. Learn what to clear out this summer and 
 join short camp activities to tidy-up live. No bug spray needed, marshmall
 ows optional.Led by professional organizer Jamie Novak, who is the bestsel
 ling author of Keep This, Toss That: The Practical Guide To Tidying Up and
  host of &quot;The 10 Minute Podcast.&quot;Like all Southbury Public Libra
 ry programs, this event is free to attend and open to anyone regardless of
  town of residency. Registration is required. This program is sponsored by
  Charles H. and Ella Emery Rutledge Fund.  For more information about thi
 s program, please email Rebecca at rrandall@biblio.org or call the referen
 ce desk at 203-262-0626 ext 2.
URL:https://www.southburylibrary.org/event/zoom-camp-tidy
END:VEVENT
END:VCALENDAR
